BEGIN:VCALENDAR
VERSION:2.0
PRODID:-//ChamberMaster//Event Calendar 2.0//EN
METHOD:PUBLISH
X-PUBLISHED-TTL:P3D
REFRESH-INTERVAL:P3D
CALSCALE:GREGORIAN
BEGIN:VEVENT
DTSTART:20260309T210000Z
DTEND:20260309T221500Z
X-MICROSOFT-CDO-ALLDAYEVENT:FALSE
SUMMARY:[EVENT CANCELLED] Pursuit: The Founders' Guide to Life\, Liberty\, and Virtue
DESCRIPTION:EVENT CANCELLED: Jeffrey Rosen Lecture \n\n"Pursuit: The Founders' Guide to Life\, Liberty\, and Virtue" has been cancelled today due to unforeseen circumstances. The event will be rescheduled for a later date. For more information: cuchicago.edu\n\nor pr@cuchicago.edu. \n\n\n\nDrawing on his books The Pursuit of Happiness and The Pursuit of Liberty\, Jeffrey Rosen examines how the Founders understood happiness as the pursuit of virtue rather than pleasure and how the enduring debate between Alexander Hamilton and Thomas Jefferson over liberty and power continues to shape American democracy. Rosen explores how Americans across generations have embraced the core principles of the American Idea liberty equality government by consent and the pursuit of happiness even as they have differed on how best to balance them.\n\nJeffrey Rosen is CEO Emeritus of the National Constitution Center and host of We the People\, a weekly constitutional debate podcast. He is a professor of law at George Washington University Law School\, a contributing editor of The Atlantic\, and the author of several bestselling books\, including The Pursuit of Happiness\, Conversations with RBG\, and Pursuit of Liberty\, forthcoming in October 2025.
X-ALT-DESC;FMTTYPE=text/html:<h1>EVENT CANCELLED: Jeffrey Rosen Lecture&nbsp\;</h1>\n\n<p>&ldquo\;Pursuit: The Founders&#39\; Guide to Life\, Liberty\, and Virtue&rdquo\; has been cancelled today due to unforeseen circumstances. The event will be rescheduled for a later date. For more information:&nbsp\;cuchicago.edu<br />\nor pr@cuchicago.edu.&nbsp\;</p>\n\n<p><br />\n<span style="color:#000000">Drawing on his books&nbsp\;<em>The Pursuit of Happiness</em>&nbsp\;and&nbsp\;<em>The Pursuit of Liberty</em>\,&nbsp\;Jeffrey Rosen&nbsp\;examines how the Founders understood happiness as the pursuit of virtue rather than pleasure and how the enduring debate between Alexander Hamilton and Thomas Jefferson over liberty and power continues to shape American democracy. Rosen explores how Americans across generations have embraced the core principles of the American Idea liberty equality government by consent and the pursuit of happiness even as they have differed on how best to balance them.</span></p>\n\n<p><span style="color:#000000">Jeffrey Rosen is CEO Emeritus of the National Constitution Center and host of We the People\, a weekly constitutional debate podcast. He is a professor of law at George Washington University Law School\, a contributing editor of&nbsp\;<em>The Atlantic</em>\, and the author of several bestselling books\, including&nbsp\;<em>The Pursuit of Happiness</em>\,&nbsp\;<em>Conversations with RBG</em>\, and&nbsp\;<em>Pursuit of Liberty</em>\, forthcoming in October 2025.</span><br />\n&nbsp\;</p>\n
LOCATION:Concordia University Chicago 7400 Augusta St River Forest\, IL 60305
UID:e.7795.12785
SEQUENCE:3
DTSTAMP:20260422T100530Z
URL:https://members.wscci.org/events/details/pursuit-the-founders-guide-to-life-liberty-and-virtue-12785
END:VEVENT

END:VCALENDAR
